BEGIN:VCALENDAR
VERSION:2.0
PRODID:-//wp-events-plugin.com//7.2.3.1//EN
TZID:Asia/Tokyo
X-WR-TIMEZONE:Asia/Tokyo
BEGIN:VEVENT
UID:2@komachionsen.com
DTSTART;TZID=Asia/Tokyo;VALUE=DATE:20250913
DTEND;TZID=Asia/Tokyo;VALUE=DATE:20250916
DTSTAMP:20250902T033938Z
URL:https://komachionsen.com/events/1633/
SUMMARY:9月連休営業時間
DESCRIPTION:\n2025年9月13日（土）〜15日（月）は日帰り入浴
 の営業時間を17時（最終受付16時30分）までとさせてい
 ただきます。\nご利用を予定されているお客様へは大変
 ご不便をおかけいたしますが、ご理解の程、よろしく
 お願いいたします。\nご宿泊のお客様は通常通り23時ま
 でご利用いただけます。
END:VEVENT
BEGIN:VTIMEZONE
TZID:Asia/Tokyo
X-LIC-LOCATION:Asia/Tokyo
BEGIN:STANDARD
DTSTART:20240913T000000
TZOFFSETFROM:+0900
TZOFFSETTO:+0900
TZNAME:JST
END:STANDARD
END:VTIMEZONE
END:VCALENDAR